Workbook

Sheet المخطط
A1: الميزانية الشهرية — المخطط
A2: اكتب في الخلايا الصفراء ما تخطط له في كل شهر، والصفوف الرمادية والخضراء تُحسب تلقائياً. أرقام المثال لأسرة دخلها الصافي 10000 في الشهر، فاكتب أرقامك مكانها.
A3: البند | B3: يناير | C3: فبراير | D3: مارس | E3: أبريل | F3: مايو | G3: يونيو | H3: يوليو | I3: أغسطس | J3: سبتمبر | K3: أكتوبر | L3: نوفمبر | M3: ديسمبر | N3: إجمالي السنة | O3: المتوسط الشهري
A4: الدخل
A5: الراتب | B5: 10000 | C5: 10000 | D5: 10000 | E5: 10000 | F5: 10000 | G5: 10000 | H5: 10000 | I5: 10000 | J5: 10000 | K5: 10000 | L5: 10000 | M5: 10000 | N5: =SUM(B5:M5) -> 120000 | O5: =IF(COUNT(B5:M5)=0,"",AVERAGE(B5:M5)) -> 10000
A6: دخل إضافي | B6: 0 | C6: 0 | D6: 0 | E6: 0 | F6: 0 | G6: 0 | H6: 0 | I6: 0 | J6: 0 | K6: 0 | L6: 0 | M6: 0 | N6: =SUM(B6:M6) -> 0 | O6: =IF(COUNT(B6:M6)=0,"",AVERAGE(B6:M6)) -> 0
A7: دخل آخر | B7: 0 | C7: 0 | D7: 0 | E7: 0 | F7: 0 | G7: 0 | H7: 0 | I7: 0 | J7: 0 | K7: 0 | L7: 0 | M7: 0 | N7: =SUM(B7:M7) -> 0 | O7: =IF(COUNT(B7:M7)=0,"",AVERAGE(B7:M7)) -> 0
A8: إجمالي الدخل | B8: =IF(COUNT(B5:B7,B11:B24)=0,"",SUM(B5:B7)) -> 10000 | C8: =IF(COUNT(C5:C7,C11:C24)=0,"",SUM(C5:C7)) -> 10000 | D8: =IF(COUNT(D5:D7,D11:D24)=0,"",SUM(D5:D7)) -> 10000 | E8: =IF(COUNT(E5:E7,E11:E24)=0,"",SUM(E5:E7)) -> 10000 | F8: =IF(COUNT(F5:F7,F11:F24)=0,"",SUM(F5:F7)) -> 10000 | G8: =IF(COUNT(G5:G7,G11:G24)=0,"",SUM(G5:G7)) -> 10000 | H8: =IF(COUNT(H5:H7,H11:H24)=0,"",SUM(H5:H7)) -> 10000 | I8: =IF(COUNT(I5:I7,I11:I24)=0,"",SUM(I5:I7)) -> 10000 | ... M8: =IF(COUNT(M5:M7,M11:M24)=0,"",SUM(M5:M7)) -> 10000 | N8: =SUM(B8:M8) -> 120000 | O8: =IF(COUNT(B8:M8)=0,"",AVERAGE(B8:M8)) -> 10000
A10: المصروفات
A11: الإيجار | B11: 3000 | C11: 3000 | D11: 3000 | E11: 3000 | F11: 3000 | G11: 3000 | H11: 3000 | I11: 3000 | J11: 3000 | K11: 3000 | L11: 3000 | M11: 3000 | N11: =SUM(B11:M11) -> 36000 | O11: =IF(COUNT(B11:M11)=0,"",AVERAGE(B11:M11)) -> 3000
A12: الكهرباء والماء | B12: 250 | C12: 250 | D12: 280 | E12: 350 | F12: 480 | G12: 620 | H12: 700 | I12: 700 | J12: 550 | K12: 380 | L12: 280 | M12: 250 | N12: =SUM(B12:M12) -> 5090 | O12: =IF(COUNT(B12:M12)=0,"",AVERAGE(B12:M12)) -> 424.16667
A13: الإنترنت والجوال | B13: 300 | C13: 300 | D13: 300 | E13: 300 | F13: 300 | G13: 300 | H13: 300 | I13: 300 | J13: 300 | K13: 300 | L13: 300 | M13: 300 | N13: =SUM(B13:M13) -> 3600 | O13: =IF(COUNT(B13:M13)=0,"",AVERAGE(B13:M13)) -> 300
A14: البقالة ومستلزمات البيت | B14: 1300 | C14: 1700 | D14: 1500 | E14: 1300 | F14: 1300 | G14: 1300 | H14: 1300 | I14: 1300 | J14: 1300 | K14: 1300 | L14: 1300 | M14: 1300 | N14: =SUM(B14:M14) -> 16200 | O14: =IF(COUNT(B14:M14)=0,"",AVERAGE(B14:M14)) -> 1350
A15: المواصلات والوقود | B15: 600 | C15: 600 | D15: 600 | E15: 600 | F15: 600 | G15: 600 | H15: 600 | I15: 600 | J15: 600 | K15: 600 | L15: 600 | M15: 600 | N15: =SUM(B15:M15) -> 7200 | O15: =IF(COUNT(B15:M15)=0,"",AVERAGE(B15:M15)) -> 600
A16: الرسوم المدرسية | B16: 1500 | C16: 0 | D16: 0 | E16: 1500 | F16: 0 | G16: 0 | H16: 0 | I16: 0 | J16: 1500 | K16: 0 | L16: 0 | M16: 0 | N16: =SUM(B16:M16) -> 4500 | O16: =IF(COUNT(B16:M16)=0,"",AVERAGE(B16:M16)) -> 375
A17: الصحة | B17: 200 | C17: 200 | D17: 200 | E17: 200 | F17: 200 | G17: 200 | H17: 200 | I17: 200 | J17: 200 | K17: 200 | L17: 200 | M17: 200 | N17: =SUM(B17:M17) -> 2400 | O17: =IF(COUNT(B17:M17)=0,"",AVERAGE(B17:M17)) -> 200
A18: الملابس | B18: 200 | C18: 200 | D18: 700 | E18: 200 | F18: 200 | G18: 200 | H18: 200 | I18: 200 | J18: 400 | K18: 200 | L18: 200 | M18: 200 | N18: =SUM(B18:M18) -> 3100 | O18: =IF(COUNT(B18:M18)=0,"",AVERAGE(B18:M18)) -> 258.33333
A19: المطاعم والترفيه | B19: 400 | C19: 400 | D19: 400 | E19: 400 | F19: 400 | G19: 400 | H19: 300 | I19: 300 | J19: 400 | K19: 400 | L19: 400 | M19: 400 | N19: =SUM(B19:M19) -> 4600 | O19: =IF(COUNT(B19:M19)=0,"",AVERAGE(B19:M19)) -> 383.33333
A20: الأعياد والسفر والهدايا | B20: 100 | C20: 100 | D20: 900 | E20: 100 | F20: 1000 | G20: 100 | H20: 1500 | I20: 100 | J20: 100 | K20: 100 | L20: 100 | M20: 100 | N20: =SUM(B20:M20) -> 4300 | O20: =IF(COUNT(B20:M20)=0,"",AVERAGE(B20:M20)) -> 358.33333
A21: الاشتراكات | B21: 100 | C21: 100 | D21: 100 | E21: 100 | F21: 100 | G21: 100 | H21: 100 | I21: 100 | J21: 100 | K21: 100 | L21: 100 | M21: 100 | N21: =SUM(B21:M21) -> 1200 | O21: =IF(COUNT(B21:M21)=0,"",AVERAGE(B21:M21)) -> 100
A22: الأقساط والديون | B22: 800 | C22: 800 | D22: 800 | E22: 800 | F22: 800 | G22: 800 | H22: 800 | I22: 800 | J22: 800 | K22: 800 | L22: 800 | M22: 800 | N22: =SUM(B22:M22) -> 9600 | O22: =IF(COUNT(B22:M22)=0,"",AVERAGE(B22:M22)) -> 800
... A24: أخرى | B24: 150 | C24: 150 | D24: 150 | E24: 150 | F24: 150 | G24: 150 | H24: 150 | I24: 150 | J24: 150 | K24: 150 | L24: 150 | M24: 150 | N24: =SUM(B24:M24) -> 1800 | O24: =IF(COUNT(B24:M24)=0,"",AVERAGE(B24:M24)) -> 150
A25: إجمالي المصروفات | B25: =IF(COUNT(B5:B7,B11:B24)=0,"",SUM(B11:B24)) -> 9400 | C25: =IF(COUNT(C5:C7,C11:C24)=0,"",SUM(C11:C24)) -> 8800 | D25: =IF(COUNT(D5:D7,D11:D24)=0,"",SUM(D11:D24)) -> 9930 | E25: =IF(COUNT(E5:E7,E11:E24)=0,"",SUM(E11:E24)) -> 10000 | F25: =IF(COUNT(F5:F7,F11:F24)=0,"",SUM(F11:F24)) -> 9530 | G25: =IF(COUNT(G5:G7,G11:G24)=0,"",SUM(G11:G24)) -> 8770 | H25: =IF(COUNT(H5:H7,H11:H24)=0,"",SUM(H11:H24)) -> 9150 | I25: =IF(COUNT(I5:I7,I11:I24)=0,"",SUM(I11:I24)) -> 8750 | ... M25: =IF(COUNT(M5:M7,M11:M24)=0,"",SUM(M11:M24)) -> 8400 | N25: =SUM(B25:M25) -> 110090 | O25: =IF(COUNT(B25:M25)=0,"",AVERAGE(B25:M25)) -> 9174.1667
A27: المتبقي (الدخل − المصروفات) | B27: =IF(B8="","",B8-B25) -> 600 | C27: =IF(C8="","",C8-C25) -> 1200 | D27: =IF(D8="","",D8-D25) -> 70 | E27: =IF(E8="","",E8-E25) -> 0 | F27: =IF(F8="","",F8-F25) -> 470 | G27: =IF(G8="","",G8-G25) -> 1230 | H27: =IF(H8="","",H8-H25) -> 850 | I27: =IF(I8="","",I8-I25) -> 1250 | ... M27: =IF(M8="","",M8-M25) -> 1600 | N27: =SUM(B27:M27) -> 9910 | O27: =IF(COUNT(B27:M27)=0,"",AVERAGE(B27:M27)) -> 825.83333
A28: المُدَّخر (الادخار + المتبقي) | B28: =IF(B8="","",B23+B27) -> 1100 | C28: =IF(C8="","",C23+C27) -> 2200 | D28: =IF(D8="","",D23+D27) -> 1070 | E28: =IF(E8="","",E23+E27) -> 1000 | F28: =IF(F8="","",F23+F27) -> 1470 | G28: =IF(G8="","",G23+G27) -> 2230 | H28: =IF(H8="","",H23+H27) -> 850 | I28: =IF(I8="","",I23+I27) -> 2250 | ... M28: =IF(M8="","",M23+M27) -> 2600 | N28: =SUM(B28:M28) -> 20410 | O28: =IF(COUNT(B28:M28)=0,"",AVERAGE(B28:M28)) -> 1700.8333
A29: نسبة الادخار | B29: =IF(N(B8)=0,"",B28/B8) -> 0.11 | C29: =IF(N(C8)=0,"",C28/C8) -> 0.22 | D29: =IF(N(D8)=0,"",D28/D8) -> 0.107 | E29: =IF(N(E8)=0,"",E28/E8) -> 0.1 | F29: =IF(N(F8)=0,"",F28/F8) -> 0.147 | G29: =IF(N(G8)=0,"",G28/G8) -> 0.223 | H29: =IF(N(H8)=0,"",H28/H8) -> 0.085 | I29: =IF(N(I8)=0,"",I28/I8) -> 0.225 | ... O29: =IF(N(O8)=0,"",O28/O8) -> 0.17008333

Sheet الفعلي
A1: الميزانية الشهرية — الفعلي
A2: في نهاية كل شهر اكتب ما دخل وما صُرف فعلاً. الأشهر الفارغة لا تدخل في الإجماليات ولا في المتوسط ولا في ورقة الفرق. المثال يحتوي على يناير حتى مارس.
A3: البند | B3: يناير | C3: فبراير | D3: مارس | E3: أبريل | F3: مايو | G3: يونيو | H3: يوليو | I3: أغسطس | J3: سبتمبر | K3: أكتوبر | L3: نوفمبر | M3: ديسمبر | N3: إجمالي السنة | O3: المتوسط الشهري
A4: الدخل
A5: ='المخطط'!A5 -> الراتب | B5: 10000 | C5: 10000 | D5: 10000 | N5: =SUM(B5:M5) -> 30000 | O5: =IF(COUNT(B5:M5)=0,"",AVERAGE(B5:M5)) -> 10000
A6: ='المخطط'!A6 -> دخل إضافي | B6: 0 | C6: 800 | D6: 0 | N6: =SUM(B6:M6) -> 800 | O6: =IF(COUNT(B6:M6)=0,"",AVERAGE(B6:M6)) -> 266.66667
A7: ='المخطط'!A7 -> دخل آخر | B7: 0 | C7: 0 | D7: 0 | N7: =SUM(B7:M7) -> 0 | O7: =IF(COUNT(B7:M7)=0,"",AVERAGE(B7:M7)) -> 0
A8: إجمالي الدخل | B8: =IF(COUNT(B5:B7,B11:B24)=0,"",SUM(B5:B7)) -> 10000 | C8: =IF(COUNT(C5:C7,C11:C24)=0,"",SUM(C5:C7)) -> 10800 | D8: =IF(COUNT(D5:D7,D11:D24)=0,"",SUM(D5:D7)) -> 10000 | E8: =IF(COUNT(E5:E7,E11:E24)=0,"",SUM(E5:E7)) | F8: =IF(COUNT(F5:F7,F11:F24)=0,"",SUM(F5:F7)) | G8: =IF(COUNT(G5:G7,G11:G24)=0,"",SUM(G5:G7)) | H8: =IF(COUNT(H5:H7,H11:H24)=0,"",SUM(H5:H7)) | I8: =IF(COUNT(I5:I7,I11:I24)=0,"",SUM(I5:I7)) | ... M8: =IF(COUNT(M5:M7,M11:M24)=0,"",SUM(M5:M7)) | N8: =SUM(B8:M8) -> 30800 | O8: =IF(COUNT(B8:M8)=0,"",AVERAGE(B8:M8)) -> 10266.667
A10: المصروفات
A11: ='المخطط'!A11 -> الإيجار | B11: 3000 | C11: 3000 | D11: 3000 | N11: =SUM(B11:M11) -> 9000 | O11: =IF(COUNT(B11:M11)=0,"",AVERAGE(B11:M11)) -> 3000
A12: ='المخطط'!A12 -> الكهرباء والماء | B12: 262 | C12: 248 | D12: 305 | N12: =SUM(B12:M12) -> 815 | O12: =IF(COUNT(B12:M12)=0,"",AVERAGE(B12:M12)) -> 271.66667
A13: ='المخطط'!A13 -> الإنترنت والجوال | B13: 300 | C13: 300 | D13: 300 | N13: =SUM(B13:M13) -> 900 | O13: =IF(COUNT(B13:M13)=0,"",AVERAGE(B13:M13)) -> 300
A14: ='المخطط'!A14 -> البقالة ومستلزمات البيت | B14: 1385 | C14: 1940 | D14: 1620 | N14: =SUM(B14:M14) -> 4945 | O14: =IF(COUNT(B14:M14)=0,"",AVERAGE(B14:M14)) -> 1648.3333
A15: ='المخطط'!A15 -> المواصلات والوقود | B15: 575 | C15: 610 | D15: 640 | N15: =SUM(B15:M15) -> 1825 | O15: =IF(COUNT(B15:M15)=0,"",AVERAGE(B15:M15)) -> 608.33333
A16: ='المخطط'!A16 -> الرسوم المدرسية | B16: 1500 | C16: 0 | D16: 0 | N16: =SUM(B16:M16) -> 1500 | O16: =IF(COUNT(B16:M16)=0,"",AVERAGE(B16:M16)) -> 500
A17: ='المخطط'!A17 -> الصحة | B17: 90 | C17: 420 | D17: 200 | N17: =SUM(B17:M17) -> 710 | O17: =IF(COUNT(B17:M17)=0,"",AVERAGE(B17:M17)) -> 236.66667
A18: ='المخطط'!A18 -> الملابس | B18: 160 | C18: 240 | D18: 820 | N18: =SUM(B18:M18) -> 1220 | O18: =IF(COUNT(B18:M18)=0,"",AVERAGE(B18:M18)) -> 406.66667
A19: ='المخطط'!A19 -> المطاعم والترفيه | B19: 470 | C19: 360 | D19: 520 | N19: =SUM(B19:M19) -> 1350 | O19: =IF(COUNT(B19:M19)=0,"",AVERAGE(B19:M19)) -> 450
A20: ='المخطط'!A20 -> الأعياد والسفر والهدايا | B20: 60 | C20: 150 | D20: 1100 | N20: =SUM(B20:M20) -> 1310 | O20: =IF(COUNT(B20:M20)=0,"",AVERAGE(B20:M20)) -> 436.66667
A21: ='المخطط'!A21 -> الاشتراكات | B21: 100 | C21: 100 | D21: 100 | N21: =SUM(B21:M21) -> 300 | O21: =IF(COUNT(B21:M21)=0,"",AVERAGE(B21:M21)) -> 100
A22: ='المخطط'!A22 -> الأقساط والديون | B22: 800 | C22: 800 | D22: 800 | N22: =SUM(B22:M22) -> 2400 | O22: =IF(COUNT(B22:M22)=0,"",AVERAGE(B22:M22)) -> 800
... A24: ='المخطط'!A24 -> أخرى | B24: 210 | C24: 130 | D24: 240 | N24: =SUM(B24:M24) -> 580 | O24: =IF(COUNT(B24:M24)=0,"",AVERAGE(B24:M24)) -> 193.33333
A25: إجمالي المصروفات | B25: =IF(COUNT(B5:B7,B11:B24)=0,"",SUM(B11:B24)) -> 9412 | C25: =IF(COUNT(C5:C7,C11:C24)=0,"",SUM(C11:C24)) -> 9298 | D25: =IF(COUNT(D5:D7,D11:D24)=0,"",SUM(D11:D24)) -> 10145 | E25: =IF(COUNT(E5:E7,E11:E24)=0,"",SUM(E11:E24)) | F25: =IF(COUNT(F5:F7,F11:F24)=0,"",SUM(F11:F24)) | G25: =IF(COUNT(G5:G7,G11:G24)=0,"",SUM(G11:G24)) | H25: =IF(COUNT(H5:H7,H11:H24)=0,"",SUM(H11:H24)) | I25: =IF(COUNT(I5:I7,I11:I24)=0,"",SUM(I11:I24)) | ... M25: =IF(COUNT(M5:M7,M11:M24)=0,"",SUM(M11:M24)) | N25: =SUM(B25:M25) -> 28855 | O25: =IF(COUNT(B25:M25)=0,"",AVERAGE(B25:M25)) -> 9618.3333
A27: المتبقي (الدخل − المصروفات) | B27: =IF(B8="","",B8-B25) -> 588 | C27: =IF(C8="","",C8-C25) -> 1502 | D27: =IF(D8="","",D8-D25) -> -145 | E27: =IF(E8="","",E8-E25) | F27: =IF(F8="","",F8-F25) | G27: =IF(G8="","",G8-G25) | H27: =IF(H8="","",H8-H25) | I27: =IF(I8="","",I8-I25) | ... M27: =IF(M8="","",M8-M25) | N27: =SUM(B27:M27) -> 1945 | O27: =IF(COUNT(B27:M27)=0,"",AVERAGE(B27:M27)) -> 648.33333
A28: المُدَّخر (الادخار + المتبقي) | B28: =IF(B8="","",B23+B27) -> 1088 | C28: =IF(C8="","",C23+C27) -> 2502 | D28: =IF(D8="","",D23+D27) -> 355 | E28: =IF(E8="","",E23+E27) | F28: =IF(F8="","",F23+F27) | G28: =IF(G8="","",G23+G27) | H28: =IF(H8="","",H23+H27) | I28: =IF(I8="","",I23+I27) | ... M28: =IF(M8="","",M23+M27) | N28: =SUM(B28:M28) -> 3945 | O28: =IF(COUNT(B28:M28)=0,"",AVERAGE(B28:M28)) -> 1315
A29: نسبة الادخار | B29: =IF(N(B8)=0,"",B28/B8) -> 0.1088 | C29: =IF(N(C8)=0,"",C28/C8) -> 0.23166667 | D29: =IF(N(D8)=0,"",D28/D8) -> 0.0355 | E29: =IF(N(E8)=0,"",E28/E8) | F29: =IF(N(F8)=0,"",F28/F8) | G29: =IF(N(G8)=0,"",G28/G8) | H29: =IF(N(H8)=0,"",H28/H8) | I29: =IF(N(I8)=0,"",I28/I8) | ... O29: =IF(N(O8)=0,"",O28/O8) -> 0.12808442

Sheet الفرق
A1: المخطط مقابل الفعلي — الفرق
A2: الموجب (أخضر) لصالحك: دخل أكثر أو صرف أقل أو ادخار أكثر مما خططت. السالب (أحمر) يعني أنك تجاوزت الخطة في هذا الصف.
A3: البند | B3: يناير | C3: فبراير | D3: مارس | E3: أبريل | F3: مايو | G3: يونيو | H3: يوليو | I3: أغسطس | J3: سبتمبر | K3: أكتوبر | L3: نوفمبر | M3: ديسمبر | N3: الفرق حتى الآن
A4: الدخل
A5: ='المخطط'!A5 -> الراتب | B5: =IF(COUNT('الفعلي'!B5)=0,"",'الفعلي'!B5-'المخطط'!B5) -> 0 | C5: =IF(COUNT('الفعلي'!C5)=0,"",'الفعلي'!C5-'المخطط'!C5) -> 0 | D5: =IF(COUNT('الفعلي'!D5)=0,"",'الفعلي'!D5-'المخطط'!D5) -> 0 | E5: =IF(COUNT('الفعلي'!E5)=0,"",'الفعلي'!E5-'المخطط'!E5) | F5: =IF(COUNT('الفعلي'!F5)=0,"",'الفعلي'!F5-'المخطط'!F5) | G5: =IF(COUNT('الفعلي'!G5)=0,"",'الفعلي'!G5-'المخطط'!G5) | H5: =IF(COUNT('الفعلي'!H5)=0,"",'الفعلي'!H5-'المخطط'!H5) | I5: =IF(COUNT('الفعلي'!I5)=0,"",'الفعلي'!I5-'المخطط'!I5) | ... M5: =IF(COUNT('الفعلي'!M5)=0,"",'الفعلي'!M5-'المخطط'!M5) | N5: =SUM(B5:M5) -> 0
A6: ='المخطط'!A6 -> دخل إضافي | B6: =IF(COUNT('الفعلي'!B6)=0,"",'الفعلي'!B6-'المخطط'!B6) -> 0 | C6: =IF(COUNT('الفعلي'!C6)=0,"",'الفعلي'!C6-'المخطط'!C6) -> 800 | D6: =IF(COUNT('الفعلي'!D6)=0,"",'الفعلي'!D6-'المخطط'!D6) -> 0 | E6: =IF(COUNT('الفعلي'!E6)=0,"",'الفعلي'!E6-'المخطط'!E6) | F6: =IF(COUNT('الفعلي'!F6)=0,"",'الفعلي'!F6-'المخطط'!F6) | G6: =IF(COUNT('الفعلي'!G6)=0,"",'الفعلي'!G6-'المخطط'!G6) | H6: =IF(COUNT('الفعلي'!H6)=0,"",'الفعلي'!H6-'المخطط'!H6) | I6: =IF(COUNT('الفعلي'!I6)=0,"",'الفعلي'!I6-'المخطط'!I6) | ... M6: =IF(COUNT('الفعلي'!M6)=0,"",'الفعلي'!M6-'المخطط'!M6) | N6: =SUM(B6:M6) -> 800
A7: ='المخطط'!A7 -> دخل آخر | B7: =IF(COUNT('الفعلي'!B7)=0,"",'الفعلي'!B7-'المخطط'!B7) -> 0 | C7: =IF(COUNT('الفعلي'!C7)=0,"",'الفعلي'!C7-'المخطط'!C7) -> 0 | D7: =IF(COUNT('الفعلي'!D7)=0,"",'الفعلي'!D7-'المخطط'!D7) -> 0 | E7: =IF(COUNT('الفعلي'!E7)=0,"",'الفعلي'!E7-'المخطط'!E7) | F7: =IF(COUNT('الفعلي'!F7)=0,"",'الفعلي'!F7-'المخطط'!F7) | G7: =IF(COUNT('الفعلي'!G7)=0,"",'الفعلي'!G7-'المخطط'!G7) | H7: =IF(COUNT('الفعلي'!H7)=0,"",'الفعلي'!H7-'المخطط'!H7) | I7: =IF(COUNT('الفعلي'!I7)=0,"",'الفعلي'!I7-'المخطط'!I7) | ... M7: =IF(COUNT('الفعلي'!M7)=0,"",'الفعلي'!M7-'المخطط'!M7) | N7: =SUM(B7:M7) -> 0
A8: إجمالي الدخل | B8: =IF('الفعلي'!B8="","",'الفعلي'!B8-'المخطط'!B8) -> 0 | C8: =IF('الفعلي'!C8="","",'الفعلي'!C8-'المخطط'!C8) -> 800 | D8: =IF('الفعلي'!D8="","",'الفعلي'!D8-'المخطط'!D8) -> 0 | E8: =IF('الفعلي'!E8="","",'الفعلي'!E8-'المخطط'!E8) | F8: =IF('الفعلي'!F8="","",'الفعلي'!F8-'المخطط'!F8) | G8: =IF('الفعلي'!G8="","",'الفعلي'!G8-'المخطط'!G8) | H8: =IF('الفعلي'!H8="","",'الفعلي'!H8-'المخطط'!H8) | I8: =IF('الفعلي'!I8="","",'الفعلي'!I8-'المخطط'!I8) | ... M8: =IF('الفعلي'!M8="","",'الفعلي'!M8-'المخطط'!M8) | N8: =SUM(B8:M8) -> 800
A10: المصروفات
A11: ='المخطط'!A11 -> الإيجار | B11: =IF(COUNT('الفعلي'!B11)=0,"",'المخطط'!B11-'الفعلي'!B11) -> 0 | C11: =IF(COUNT('الفعلي'!C11)=0,"",'المخطط'!C11-'الفعلي'!C11) -> 0 | D11: =IF(COUNT('الفعلي'!D11)=0,"",'المخطط'!D11-'الفعلي'!D11) -> 0 | E11: =IF(COUNT('الفعلي'!E11)=0,"",'المخطط'!E11-'الفعلي'!E11) | F11: =IF(COUNT('الفعلي'!F11)=0,"",'المخطط'!F11-'الفعلي'!F11) | G11: =IF(COUNT('الفعلي'!G11)=0,"",'المخطط'!G11-'الفعلي'!G11) | H11: =IF(COUNT('الفعلي'!H11)=0,"",'المخطط'!H11-'الفعلي'!H11) | I11: =IF(COUNT('الفعلي'!I11)=0,"",'المخطط'!I11-'الفعلي'!I11) | ... M11: =IF(COUNT('الفعلي'!M11)=0,"",'المخطط'!M11-'الفعلي'!M11) | N11: =SUM(B11:M11) -> 0
A12: ='المخطط'!A12 -> الكهرباء والماء | B12: =IF(COUNT('الفعلي'!B12)=0,"",'المخطط'!B12-'الفعلي'!B12) -> -12 | C12: =IF(COUNT('الفعلي'!C12)=0,"",'المخطط'!C12-'الفعلي'!C12) -> 2 | D12: =IF(COUNT('الفعلي'!D12)=0,"",'المخطط'!D12-'الفعلي'!D12) -> -25 | E12: =IF(COUNT('الفعلي'!E12)=0,"",'المخطط'!E12-'الفعلي'!E12) | F12: =IF(COUNT('الفعلي'!F12)=0,"",'المخطط'!F12-'الفعلي'!F12) | G12: =IF(COUNT('الفعلي'!G12)=0,"",'المخطط'!G12-'الفعلي'!G12) | H12: =IF(COUNT('الفعلي'!H12)=0,"",'المخطط'!H12-'الفعلي'!H12) | I12: =IF(COUNT('الفعلي'!I12)=0,"",'المخطط'!I12-'الفعلي'!I12) | ... M12: =IF(COUNT('الفعلي'!M12)=0,"",'المخطط'!M12-'الفعلي'!M12) | N12: =SUM(B12:M12) -> -35
A13: ='المخطط'!A13 -> الإنترنت والجوال | B13: =IF(COUNT('الفعلي'!B13)=0,"",'المخطط'!B13-'الفعلي'!B13) -> 0 | C13: =IF(COUNT('الفعلي'!C13)=0,"",'المخطط'!C13-'الفعلي'!C13) -> 0 | D13: =IF(COUNT('الفعلي'!D13)=0,"",'المخطط'!D13-'الفعلي'!D13) -> 0 | E13: =IF(COUNT('الفعلي'!E13)=0,"",'المخطط'!E13-'الفعلي'!E13) | F13: =IF(COUNT('الفعلي'!F13)=0,"",'المخطط'!F13-'الفعلي'!F13) | G13: =IF(COUNT('الفعلي'!G13)=0,"",'المخطط'!G13-'الفعلي'!G13) | H13: =IF(COUNT('الفعلي'!H13)=0,"",'المخطط'!H13-'الفعلي'!H13) | I13: =IF(COUNT('الفعلي'!I13)=0,"",'المخطط'!I13-'الفعلي'!I13) | ... M13: =IF(COUNT('الفعلي'!M13)=0,"",'المخطط'!M13-'الفعلي'!M13) | N13: =SUM(B13:M13) -> 0
A14: ='المخطط'!A14 -> البقالة ومستلزمات البيت | B14: =IF(COUNT('الفعلي'!B14)=0,"",'المخطط'!B14-'الفعلي'!B14) -> -85 | C14: =IF(COUNT('الفعلي'!C14)=0,"",'المخطط'!C14-'الفعلي'!C14) -> -240 | D14: =IF(COUNT('الفعلي'!D14)=0,"",'المخطط'!D14-'الفعلي'!D14) -> -120 | E14: =IF(COUNT('الفعلي'!E14)=0,"",'المخطط'!E14-'الفعلي'!E14) | F14: =IF(COUNT('الفعلي'!F14)=0,"",'المخطط'!F14-'الفعلي'!F14) | G14: =IF(COUNT('الفعلي'!G14)=0,"",'المخطط'!G14-'الفعلي'!G14) | H14: =IF(COUNT('الفعلي'!H14)=0,"",'المخطط'!H14-'الفعلي'!H14) | I14: =IF(COUNT('الفعلي'!I14)=0,"",'المخطط'!I14-'الفعلي'!I14) | ... M14: =IF(COUNT('الفعلي'!M14)=0,"",'المخطط'!M14-'الفعلي'!M14) | N14: =SUM(B14:M14) -> -445
A15: ='المخطط'!A15 -> المواصلات والوقود | B15: =IF(COUNT('الفعلي'!B15)=0,"",'المخطط'!B15-'الفعلي'!B15) -> 25 | C15: =IF(COUNT('الفعلي'!C15)=0,"",'المخطط'!C15-'الفعلي'!C15) -> -10 | D15: =IF(COUNT('الفعلي'!D15)=0,"",'المخطط'!D15-'الفعلي'!D15) -> -40 | E15: =IF(COUNT('الفعلي'!E15)=0,"",'المخطط'!E15-'الفعلي'!E15) | F15: =IF(COUNT('الفعلي'!F15)=0,"",'المخطط'!F15-'الفعلي'!F15) | G15: =IF(COUNT('الفعلي'!G15)=0,"",'المخطط'!G15-'الفعلي'!G15) | H15: =IF(COUNT('الفعلي'!H15)=0,"",'المخطط'!H15-'الفعلي'!H15) | I15: =IF(COUNT('الفعلي'!I15)=0,"",'المخطط'!I15-'الفعلي'!I15) | ... M15: =IF(COUNT('الفعلي'!M15)=0,"",'المخطط'!M15-'الفعلي'!M15) | N15: =SUM(B15:M15) -> -25
A16: ='المخطط'!A16 -> الرسوم المدرسية | B16: =IF(COUNT('الفعلي'!B16)=0,"",'المخطط'!B16-'الفعلي'!B16) -> 0 | C16: =IF(COUNT('الفعلي'!C16)=0,"",'المخطط'!C16-'الفعلي'!C16) -> 0 | D16: =IF(COUNT('الفعلي'!D16)=0,"",'المخطط'!D16-'الفعلي'!D16) -> 0 | E16: =IF(COUNT('الفعلي'!E16)=0,"",'المخطط'!E16-'الفعلي'!E16) | F16: =IF(COUNT('الفعلي'!F16)=0,"",'المخطط'!F16-'الفعلي'!F16) | G16: =IF(COUNT('الفعلي'!G16)=0,"",'المخطط'!G16-'الفعلي'!G16) | H16: =IF(COUNT('الفعلي'!H16)=0,"",'المخطط'!H16-'الفعلي'!H16) | I16: =IF(COUNT('الفعلي'!I16)=0,"",'المخطط'!I16-'الفعلي'!I16) | ... M16: =IF(COUNT('الفعلي'!M16)=0,"",'المخطط'!M16-'الفعلي'!M16) | N16: =SUM(B16:M16) -> 0
A17: ='المخطط'!A17 -> الصحة | B17: =IF(COUNT('الفعلي'!B17)=0,"",'المخطط'!B17-'الفعلي'!B17) -> 110 | C17: =IF(COUNT('الفعلي'!C17)=0,"",'المخطط'!C17-'الفعلي'!C17) -> -220 | D17: =IF(COUNT('الفعلي'!D17)=0,"",'المخطط'!D17-'الفعلي'!D17) -> 0 | E17: =IF(COUNT('الفعلي'!E17)=0,"",'المخطط'!E17-'الفعلي'!E17) | F17: =IF(COUNT('الفعلي'!F17)=0,"",'المخطط'!F17-'الفعلي'!F17) | G17: =IF(COUNT('الفعلي'!G17)=0,"",'المخطط'!G17-'الفعلي'!G17) | H17: =IF(COUNT('الفعلي'!H17)=0,"",'المخطط'!H17-'الفعلي'!H17) | I17: =IF(COUNT('الفعلي'!I17)=0,"",'المخطط'!I17-'الفعلي'!I17) | ... M17: =IF(COUNT('الفعلي'!M17)=0,"",'المخطط'!M17-'الفعلي'!M17) | N17: =SUM(B17:M17) -> -110
A18: ='المخطط'!A18 -> الملابس | B18: =IF(COUNT('الفعلي'!B18)=0,"",'المخطط'!B18-'الفعلي'!B18) -> 40 | C18: =IF(COUNT('الفعلي'!C18)=0,"",'المخطط'!C18-'الفعلي'!C18) -> -40 | D18: =IF(COUNT('الفعلي'!D18)=0,"",'المخطط'!D18-'الفعلي'!D18) -> -120 | E18: =IF(COUNT('الفعلي'!E18)=0,"",'المخطط'!E18-'الفعلي'!E18) | F18: =IF(COUNT('الفعلي'!F18)=0,"",'المخطط'!F18-'الفعلي'!F18) | G18: =IF(COUNT('الفعلي'!G18)=0,"",'المخطط'!G18-'الفعلي'!G18) | H18: =IF(COUNT('الفعلي'!H18)=0,"",'المخطط'!H18-'الفعلي'!H18) | I18: =IF(COUNT('الفعلي'!I18)=0,"",'المخطط'!I18-'الفعلي'!I18) | ... M18: =IF(COUNT('الفعلي'!M18)=0,"",'المخطط'!M18-'الفعلي'!M18) | N18: =SUM(B18:M18) -> -120
A19: ='المخطط'!A19 -> المطاعم والترفيه | B19: =IF(COUNT('الفعلي'!B19)=0,"",'المخطط'!B19-'الفعلي'!B19) -> -70 | C19: =IF(COUNT('الفعلي'!C19)=0,"",'المخطط'!C19-'الفعلي'!C19) -> 40 | D19: =IF(COUNT('الفعلي'!D19)=0,"",'المخطط'!D19-'الفعلي'!D19) -> -120 | E19: =IF(COUNT('الفعلي'!E19)=0,"",'المخطط'!E19-'الفعلي'!E19) | F19: =IF(COUNT('الفعلي'!F19)=0,"",'المخطط'!F19-'الفعلي'!F19) | G19: =IF(COUNT('الفعلي'!G19)=0,"",'المخطط'!G19-'الفعلي'!G19) | H19: =IF(COUNT('الفعلي'!H19)=0,"",'المخطط'!H19-'الفعلي'!H19) | I19: =IF(COUNT('الفعلي'!I19)=0,"",'المخطط'!I19-'الفعلي'!I19) | ... M19: =IF(COUNT('الفعلي'!M19)=0,"",'المخطط'!M19-'الفعلي'!M19) | N19: =SUM(B19:M19) -> -150
A20: ='المخطط'!A20 -> الأعياد والسفر والهدايا | B20: =IF(COUNT('الفعلي'!B20)=0,"",'المخطط'!B20-'الفعلي'!B20) -> 40 | C20: =IF(COUNT('الفعلي'!C20)=0,"",'المخطط'!C20-'الفعلي'!C20) -> -50 | D20: =IF(COUNT('الفعلي'!D20)=0,"",'المخطط'!D20-'الفعلي'!D20) -> -200 | E20: =IF(COUNT('الفعلي'!E20)=0,"",'المخطط'!E20-'الفعلي'!E20) | F20: =IF(COUNT('الفعلي'!F20)=0,"",'المخطط'!F20-'الفعلي'!F20) | G20: =IF(COUNT('الفعلي'!G20)=0,"",'المخطط'!G20-'الفعلي'!G20) | H20: =IF(COUNT('الفعلي'!H20)=0,"",'المخطط'!H20-'الفعلي'!H20) | I20: =IF(COUNT('الفعلي'!I20)=0,"",'المخطط'!I20-'الفعلي'!I20) | ... M20: =IF(COUNT('الفعلي'!M20)=0,"",'المخطط'!M20-'الفعلي'!M20) | N20: =SUM(B20:M20) -> -210
A21: ='المخطط'!A21 -> الاشتراكات | B21: =IF(COUNT('الفعلي'!B21)=0,"",'المخطط'!B21-'الفعلي'!B21) -> 0 | C21: =IF(COUNT('الفعلي'!C21)=0,"",'المخطط'!C21-'الفعلي'!C21) -> 0 | D21: =IF(COUNT('الفعلي'!D21)=0,"",'المخطط'!D21-'الفعلي'!D21) -> 0 | E21: =IF(COUNT('الفعلي'!E21)=0,"",'المخطط'!E21-'الفعلي'!E21) | F21: =IF(COUNT('الفعلي'!F21)=0,"",'المخطط'!F21-'الفعلي'!F21) | G21: =IF(COUNT('الفعلي'!G21)=0,"",'المخطط'!G21-'الفعلي'!G21) | H21: =IF(COUNT('الفعلي'!H21)=0,"",'المخطط'!H21-'الفعلي'!H21) | I21: =IF(COUNT('الفعلي'!I21)=0,"",'المخطط'!I21-'الفعلي'!I21) | ... M21: =IF(COUNT('الفعلي'!M21)=0,"",'المخطط'!M21-'الفعلي'!M21) | N21: =SUM(B21:M21) -> 0
A22: ='المخطط'!A22 -> الأقساط والديون | B22: =IF(COUNT('الفعلي'!B22)=0,"",'المخطط'!B22-'الفعلي'!B22) -> 0 | C22: =IF(COUNT('الفعلي'!C22)=0,"",'المخطط'!C22-'الفعلي'!C22) -> 0 | D22: =IF(COUNT('الفعلي'!D22)=0,"",'المخطط'!D22-'الفعلي'!D22) -> 0 | E22: =IF(COUNT('الفعلي'!E22)=0,"",'المخطط'!E22-'الفعلي'!E22) | F22: =IF(COUNT('الفعلي'!F22)=0,"",'المخطط'!F22-'الفعلي'!F22) | G22: =IF(COUNT('الفعلي'!G22)=0,"",'المخطط'!G22-'الفعلي'!G22) | H22: =IF(COUNT('الفعلي'!H22)=0,"",'المخطط'!H22-'الفعلي'!H22) | I22: =IF(COUNT('الفعلي'!I22)=0,"",'المخطط'!I22-'الفعلي'!I22) | ... M22: =IF(COUNT('الفعلي'!M22)=0,"",'المخطط'!M22-'الفعلي'!M22) | N22: =SUM(B22:M22) -> 0
A23: ='المخطط'!A23 -> الادخار | B23: =IF(COUNT('الفعلي'!B23)=0,"",'الفعلي'!B23-'المخطط'!B23) -> 0 | C23: =IF(COUNT('الفعلي'!C23)=0,"",'الفعلي'!C23-'المخطط'!C23) -> 0 | D23: =IF(COUNT('الفعلي'!D23)=0,"",'الفعلي'!D23-'المخطط'!D23) -> -500 | E23: =IF(COUNT('الفعلي'!E23)=0,"",'الفعلي'!E23-'المخطط'!E23) | F23: =IF(COUNT('الفعلي'!F23)=0,"",'الفعلي'!F23-'المخطط'!F23) | G23: =IF(COUNT('الفعلي'!G23)=0,"",'الفعلي'!G23-'المخطط'!G23) | H23: =IF(COUNT('الفعلي'!H23)=0,"",'الفعلي'!H23-'المخطط'!H23) | I23: =IF(COUNT('الفعلي'!I23)=0,"",'الفعلي'!I23-'المخطط'!I23) | ... M23: =IF(COUNT('الفعلي'!M23)=0,"",'الفعلي'!M23-'المخطط'!M23) | N23: =SUM(B23:M23) -> -500
A24: ='المخطط'!A24 -> أخرى | B24: =IF(COUNT('الفعلي'!B24)=0,"",'المخطط'!B24-'الفعلي'!B24) -> -60 | C24: =IF(COUNT('الفعلي'!C24)=0,"",'المخطط'!C24-'الفعلي'!C24) -> 20 | D24: =IF(COUNT('الفعلي'!D24)=0,"",'المخطط'!D24-'الفعلي'!D24) -> -90 | E24: =IF(COUNT('الفعلي'!E24)=0,"",'المخطط'!E24-'الفعلي'!E24) | F24: =IF(COUNT('الفعلي'!F24)=0,"",'المخطط'!F24-'الفعلي'!F24) | G24: =IF(COUNT('الفعلي'!G24)=0,"",'المخطط'!G24-'الفعلي'!G24) | H24: =IF(COUNT('الفعلي'!H24)=0,"",'المخطط'!H24-'الفعلي'!H24) | I24: =IF(COUNT('الفعلي'!I24)=0,"",'المخطط'!I24-'الفعلي'!I24) | ... M24: =IF(COUNT('الفعلي'!M24)=0,"",'المخطط'!M24-'الفعلي'!M24) | N24: =SUM(B24:M24) -> -130
A25: إجمالي المصروفات | B25: =IF('الفعلي'!B25="","",'المخطط'!B25-'الفعلي'!B25) -> -12 | C25: =IF('الفعلي'!C25="","",'المخطط'!C25-'الفعلي'!C25) -> -498 | D25: =IF('الفعلي'!D25="","",'المخطط'!D25-'الفعلي'!D25) -> -215 | E25: =IF('الفعلي'!E25="","",'المخطط'!E25-'الفعلي'!E25) | F25: =IF('الفعلي'!F25="","",'المخطط'!F25-'الفعلي'!F25) | G25: =IF('الفعلي'!G25="","",'المخطط'!G25-'الفعلي'!G25) | H25: =IF('الفعلي'!H25="","",'المخطط'!H25-'الفعلي'!H25) | I25: =IF('الفعلي'!I25="","",'المخطط'!I25-'الفعلي'!I25) | ... M25: =IF('الفعلي'!M25="","",'المخطط'!M25-'الفعلي'!M25) | N25: =SUM(B25:M25) -> -725
A27: المتبقي (الدخل − المصروفات) | B27: =IF('الفعلي'!B27="","",'الفعلي'!B27-'المخطط'!B27) -> -12 | C27: =IF('الفعلي'!C27="","",'الفعلي'!C27-'المخطط'!C27) -> 302 | D27: =IF('الفعلي'!D27="","",'الفعلي'!D27-'المخطط'!D27) -> -215 | E27: =IF('الفعلي'!E27="","",'الفعلي'!E27-'المخطط'!E27) | F27: =IF('الفعلي'!F27="","",'الفعلي'!F27-'المخطط'!F27) | G27: =IF('الفعلي'!G27="","",'الفعلي'!G27-'المخطط'!G27) | H27: =IF('الفعلي'!H27="","",'الفعلي'!H27-'المخطط'!H27) | I27: =IF('الفعلي'!I27="","",'الفعلي'!I27-'المخطط'!I27) | ... M27: =IF('الفعلي'!M27="","",'الفعلي'!M27-'المخطط'!M27) | N27: =SUM(B27:M27) -> 75
A28: المُدَّخر (الادخار + المتبقي) | B28: =IF('الفعلي'!B28="","",'الفعلي'!B28-'المخطط'!B28) -> -12 | C28: =IF('الفعلي'!C28="","",'الفعلي'!C28-'المخطط'!C28) -> 302 | D28: =IF('الفعلي'!D28="","",'الفعلي'!D28-'المخطط'!D28) -> -715 | E28: =IF('الفعلي'!E28="","",'الفعلي'!E28-'المخطط'!E28) | F28: =IF('الفعلي'!F28="","",'الفعلي'!F28-'المخطط'!F28) | G28: =IF('الفعلي'!G28="","",'الفعلي'!G28-'المخطط'!G28) | H28: =IF('الفعلي'!H28="","",'الفعلي'!H28-'المخطط'!H28) | I28: =IF('الفعلي'!I28="","",'الفعلي'!I28-'المخطط'!I28) | ... M28: =IF('الفعلي'!M28="","",'الفعلي'!M28-'المخطط'!M28) | N28: =SUM(B28:M28) -> -425
A29: نسبة الادخار (نقاط مئوية) | B29: =IF(N('الفعلي'!B8)=0,"",'الفعلي'!B29-'المخطط'!B29) -> -0.0012 | C29: =IF(N('الفعلي'!C8)=0,"",'الفعلي'!C29-'المخطط'!C29) -> 0.011666667 | D29: =IF(N('الفعلي'!D8)=0,"",'الفعلي'!D29-'المخطط'!D29) -> -0.0715 | E29: =IF(N('الفعلي'!E8)=0,"",'الفعلي'!E29-'المخطط'!E29) | F29: =IF(N('الفعلي'!F8)=0,"",'الفعلي'!F29-'المخطط'!F29) | G29: =IF(N('الفعلي'!G8)=0,"",'الفعلي'!G29-'المخطط'!G29) | H29: =IF(N('الفعلي'!H8)=0,"",'الفعلي'!H29-'المخطط'!H29) | I29: =IF(N('الفعلي'!I8)=0,"",'الفعلي'!I29-'المخطط'!I29) | ... M29: =IF(N('الفعلي'!M8)=0,"",'الفعلي'!M29-'المخطط'!M29)

Sheet طريقة الاستخدام
A1: الميزانية الشهرية — طريقة الاستخدام
A3: 1. ورقة المخطط: في بداية السنة اكتب في الخلايا الصفراء الدخل المتوقع والمصروف المخطط لكل شهر. ضع المصاريف الموسمية، مثل رمضان والعيدين والرسوم المدرسية والسفر الصيفي وتكييف الصيف، في الشهر الذي تقع فيه فعلاً.
A4: 2. ورقة الفعلي: في نهاية كل شهر اكتب في الصفوف نفسها ما دخل وما صُرف فعلاً. الأشهر التي تتركها فارغة لا تدخل في المتوسط ولا في ورقة الفرق.
A5: 3. ورقة الفرق: لا تكتب فيها شيئاً. الخلايا الحمراء (السالبة) تعني أنك تجاوزت الخطة، والخضراء (الموجبة) لصالحك.
A6: 4. نسبة الادخار = (الادخار + المتبقي) ÷ إجمالي الدخل. نسبة قريبة من 20% هدف صحي، وأي رقم موجب بداية جيدة.
A7: 5. لتغيير اسم فئة غيّره في ورقة المخطط فقط، فالورقتان الأخريان تقرآن الأسماء منها. الأوراق الثلاث متطابقة صفاً بصف، فلا تُدرج صفاً ولا تحذفه في ورقة واحدة فقط، وضع أي شيء إضافي تحت «أخرى».
A9: المعادلات تعمل في Excel وGoogle Sheets وLibreOffice وNumbers. قد تظهر المعادلات بفاصلة منقوطة (;) حسب إعدادات المنطقة في جهازك، وهذا طبيعي.
A10: لتسجيل المصروفات من الهاتف بتصوير الفاتورة أو بالصوت: تطبيق المحاسبة الشخصية، personalaccounting.app
